BEGIN:VCALENDAR
VERSION:2.0
PRODID:-//xm-institute - ECPv6.15.20//NONSGML v1.0//EN
CALSCALE:GREGORIAN
METHOD:PUBLISH
X-ORIGINAL-URL:https://xm-institute.com
X-WR-CALDESC:Events for xm-institute
REFRESH-INTERVAL;VALUE=DURATION:PT1H
X-Robots-Tag:noindex
X-PUBLISHED-TTL:PT1H
BEGIN:VTIMEZONE
TZID:Europe/Vienna
BEGIN:DAYLIGHT
TZOFFSETFROM:+0100
TZOFFSETTO:+0200
TZNAME:CEST
DTSTART:20160327T010000
END:DAYLIGHT
BEGIN:STANDARD
TZOFFSETFROM:+0200
TZOFFSETTO:+0100
TZNAME:CET
DTSTART:20161030T010000
END:STANDARD
BEGIN:DAYLIGHT
TZOFFSETFROM:+0100
TZOFFSETTO:+0200
TZNAME:CEST
DTSTART:20170326T010000
END:DAYLIGHT
BEGIN:STANDARD
TZOFFSETFROM:+0200
TZOFFSETTO:+0100
TZNAME:CET
DTSTART:20171029T010000
END:STANDARD
BEGIN:DAYLIGHT
TZOFFSETFROM:+0100
TZOFFSETTO:+0200
TZNAME:CEST
DTSTART:20180325T010000
END:DAYLIGHT
BEGIN:STANDARD
TZOFFSETFROM:+0200
TZOFFSETTO:+0100
TZNAME:CET
DTSTART:20181028T010000
END:STANDARD
END:VTIMEZONE
BEGIN:VEVENT
DTSTART;TZID=Europe/Vienna:20170321T100000
DTEND;TZID=Europe/Vienna:20170322T160000
DTSTAMP:20260422T100800
CREATED:20161123T102556Z
LAST-MODIFIED:20170326T092724Z
UID:4482-1490090400-1490198400@xm-institute.com
SUMMARY:Business Tool Lab: "Innovationskulturen gestalten"
DESCRIPTION:Innovation und Organisationskultur\n  Von der zündenden Idee zu einem innovativen Produkt ist es ein weiter Weg. Dabei gilt es eigene Kompetenzen\, Werte und Ressourcen mit Entwicklungen und Möglichkeiten des Umfelds strukturiert zusammenzuführen. Eine konstruktive\, zukunftsorientierte Organisationskultur\, die sich neuen Herausforderungen stellen kann\, spielt dabei eine Schlüsselrolle.\n   \nDieser Workshop verbindet dafür relevante Aspekte und hilft dabei\, innovatives Denken und Handeln zu einem permanenten Teil der Organisationskultur werden zu lassen. Die Vermittlung eigens entwickelter\, konkreter Methoden und Instrumente unterstützt die Anwendung im Alltag.\nSTATUS: Nicht mehr buchbar \n  \nHintergrund\n Grundgedanke: Zukunft passiert nicht einfach\, sondern wird immer von jemandem gestaltet. Dem Wandel und neuen Entwicklungen einfach zu folgen\, reicht nicht aus\, um nachhaltig attraktiv und wettbewerbsfähig zu sein. Differenzierung\, eigene Akzente und eine klare Positionierung müssen aktiv und kontinuierlich weiterentwickelt werden.\n   \nHerausforderung: Viele Organisationskulturen leben Veränderung als Gefahr und nicht als Chance. Erneuerung wird als Bedrohung und zusätzliche „workload“ empfunden. Bei vielen Abläufen spießt es sich\, denn sie fördern vor allem den Status Quo\, nicht die Gestaltung der Zukunft. Je größer und je “alteingesessener” eine Organisation ist\, desto eher tritt dieser Effekt ein.\n   \nZiel des Workshops: Entwicklung einer Perspektive\, die zeigt\, dass Veränderung und Erneuerung dann als positiv und produktiv wahrgenommen werden können\, wenn entscheidende Faktoren einer Organisation erkannt und gelebt werden. Innovation und aktiver Wandel können damit zu einem permanenten\, konstruktiven Teil der Organisationskultur werden.\n \n\nInhaltliche Bausteine\n\n  Der Zwei-Tagesworkshop umfasst 4 inhaltliche Bausteine. Diese basieren auf einer Verbindung aus einem Überdenken bisheriger organisationskultureller Bedingungen\, neuen Perspektiven und der Schaffung von Vitalität und Zukunftsfähigkeit:\n   \n\nOut Of The Box – Denken und Handeln jenseits bestehender Muster\n\nWie erkennen wir überhaupt bestehende Denk- und Handlungsmuster?\nWie ändern wir unsere Perspektive?\nWie kommen wir von neuen Perspektiven zu neuen Potentialen? (Transforming Competences©)\n\n\n\n\n\nVerbinden und kooperieren – Zukunftsfähigkeit durch Zusammenarbeit\n\nWarum ist Kooperation so zukunftsentscheidend und welche Faktoren machen Kooperation wirkungsvoll?\nWelche Werte und Spielregeln fördern interne und externe Kooperation?\nWelche Schritte sind nötig\, um Kooperation im eigenen Unternehmen zu leben?\n\n\n\n\n\nWissen schaffen – Lernen statt Information verwalten\n\nWelche Auswirkungen hat die Wissensexplosion?\nWelche Faktoren fördern die Schaffung von Wissen und ein herausragendes Lernklima?\nWie gelingt mir persönlich und im Team ein wirksames und schnelles Lernen?\n\n\n\n\n\nVon der Idee zur Innovation – ein strukturierter Weg\n\nWarum sollen wir eigentlich innovativ sein?\nWelche Werte und Spielregeln prägen ein innovatives Klima?\nWelche Strukturen und Prozesse fördern Innovation?\nVon der Idee zur Innovation (Innovatement-Circle©)\n\n\n\nZielgruppe\nMenschen in Organisationen\, deren Rolle und Umfeld Vitalität\, Erneuerung und Innovation in besonderem Maße erfordert. \nWir richten uns vorrangig an Personen\, die für Innovation\, Business Development und Organisationsentwicklung verantwortlich zeichnen: Mitglieder der Geschäftsführung\, Innovationsmanagement\, Business-Development\, Organisationsentwicklung\, Strategieentwicklung\, Marketing\, Human Ressource Management\, Forschung & Entwicklung. \nMax. Gruppengröße: 15 Personen \n\nNutzen\n\n  Verständnis des Zusammenhangs zwischen Aspekten der Organisationskultur und innovativem Denken und Handeln. Verständnis eines aktiven Umgangs mit Erneuerung und Innovation von der Entwicklung bis zur Integration in den Alltag. Vermittlung konkreter Methoden und Instrumente zur Anwendung.\nDauer\n2 Tage \nArbeitszeiten: \nTag 1: 10:00-18:00 Uhr \nTag 2: 09:00-16:00 Uhr \nPreis\n690 EUR exkl. MwSt. und Verpflegung/ Seminarpauschale \nOrt\nWien\, tbd. \nGestaltung und Moderation\nPatrick Halek\nMag. Patrick Halek ist Organisations- und Managementberater mit dem Fokus auf Innovation und aktiven Wandel\, Wissen und Marke. Er entwickelte „blueformance”\, ein umfassendes Methodenset\, um die Entwicklung und Fitness von Organisationen und Produkten aktiv\, kontinuierlich und nachhaltig zu gestalten. Patrick Halek ist Autor mehrerer Bücher und Buchbeiträge zu den Themen Marke\, Wissen und Umgang mit Komplexität.\n\n\n\nOliver Mack\nDr. Oliver Mack ist Berater\, Speaker\, Entrepreneur und Forscher im Bereich moderner innovativer Managementmethoden und -konzepte. Er beschäftigt sich vorrangig mit Themen wie Projektorientierte Unternehmen\, Organisationsdesign\, Change-Management und Komplexität. Er ist Dozent an verschiedenen internationalen Hochschulen und Autor zahlreicher Fachartikel sowie Gründer und Chief Researcher des xm-institutes.\n  \nKontakt & Fragen\nFür Kontakt und Fragen erreichen sie uns unter labs@xm-institute.com \nAnmeldung\nkeine Anmeldung mehr möglich.
URL:https://xm-institute.com/event/business-tool-lab-innovationskulturen-gestalten/
LOCATION:Wien\, tba.\, Wien\, Austria
CATEGORIES:Innovation,xm-praxis
ATTACH;FMTTYPE=image/png:https://xm-institute.com/wp-content/uploads/BULB-1.png
ORGANIZER;CN="Patrick Halek":MAILTO:ph@blueformance.com
END:VEVENT
END:VCALENDAR